BEGIN:VCALENDAR
VERSION:2.0
PRODID:-//wp-events-plugin.com//7.2.3.1//EN
TZID:Europe/London
X-WR-TIMEZONE:Europe/London
BEGIN:VEVENT
UID:217@stopthearmsfair.org.uk
DTSTART;TZID=Europe/London:20180930T130000
DTEND;TZID=Europe/London:20180930T190000
DTSTAMP:20180906T141510Z
URL:https://stopthearmsfair.org.uk/events/a-call-to-arts-launching-art-the
 -arms-fair-2019/
SUMMARY:A Call to Arts! Launching Art the Arms Fair 2019
DESCRIPTION:[caption id="attachment_3817" align="aligncenter" width="635"] 
 Art the Arms Fair 2017[/caption]\n\nJoin Art the Arms Fair for an afternoo
 n to celebrate our Launch\, one year ahead of Art The Arms Fair 2019\, mar
 king the opening of our call for art submissions. There will be:\n\n 	Cour
 tyard Paint Jam: A group of street artists will create the first pieces of
  work for Art The Arms Fair 2019\n 	Gallery: Exhibiting submissions from t
 he Art The Arms Fair 2017\n 	 Speakers: With talks about the Arms Trade\,
  and about our campaign to make the arms fair visible.\n 	Performances: TB
 D\n 	 Pledge Booth: Sign up on the day with a pledge to make a submission
  (we encourage submissions of any and all art-forms)\n 	Vinyl Dj's\n 	Bar 
 and Food\n 	and more!\n\nWe'll be at Grow Tottenham\, a community garden n
 ext to Tottenham Hale on the Victoria Line\, and on National Rail network 
 with direct trains from Liverpool Street and Stratford.\n\nOpen to all (an
 d free to attend) We want as many artists as possible to come so please sh
 are in your relevant networks\, and join us for the day out to kick off Ar
 t The Arms Fair 2019.\n\nSee you then!\n\n 	Follow Art the Arms Fair on Tw
 itter \n 	Check out what happened at the the last Art the Arms Fair \n
LOCATION:Grow Tottenham\, Ashley House\, London\, N17 9LZ\, United Kingdom
GEO:51.5899791;-0.06220200000007026
X-APPLE-STRUCTURED-LOCATION;VALUE=URI;X-ADDRESS=Ashley House\, London\, N17
  9LZ\, United Kingdom;X-APPLE-RADIUS=100;X-TITLE=Grow Tottenham:geo:51.589
 9791,-0.06220200000007026
END:VEVENT
BEGIN:VTIMEZONE
TZID:Europe/London
X-LIC-LOCATION:Europe/London
BEGIN:DAYLIGHT
DTSTART:20180325T020000
TZOFFSETFROM:+0000
TZOFFSETTO:+0100
TZNAME:BST
END:DAYLIGHT
END:VTIMEZONE
END:VCALENDAR