BEGIN:VCALENDAR
VERSION:2.0
PRODID:-//wp-events-plugin.com//7.2.3.1//EN
TZID:Europe/London
X-WR-TIMEZONE:Europe/London
BEGIN:VEVENT
UID:193@stopthearmsfair.org.uk
DTSTART;TZID=Europe/London:20170906T100000
DTEND;TZID=Europe/London:20170906T180000
DTSTAMP:20170825T133439Z
URL:https://stopthearmsfair.org.uk/events/arms-to-renewables/
SUMMARY:Arms to Renewables
DESCRIPTION:\nArms to Renewables - day of activity to Stop the Arms Fair\nA
 rms fairs such as the DSEI are the oil in the machinery of the internation
 al arms trade – and the sales it facilitates fuel conflict\, support rep
 ression and make the world a more dangerous place for all.\n\nThe UK gover
 nment supports and promotes this devastating industry\, while other sector
 s that could make us safer are neglected.\n\nShifting priorities from Arms
  to Renewables would help us tackle one of the biggest threats we face: cl
 imate change.\n\nCampaign Against Arms Trade's research shows that a move 
 towards offshore wind and marine energy could produce more jobs than the e
 ntire arms industry.\n\nThese would be better jobs in an industry which is
  growing\, which create a safer\, cleaner\, healthier and more peaceful wo
 rld.\n\nJoin the Arms to Renewables team campaigning alongside Stop The Ar
 ms Fair - No Nuclear activists to prevent the setting up of the arms fair 
 and to call for jobs which create a safer\, rather than a more dangerous w
 orld.\n\nWe have a variety of fun filled activities you can join in: help 
 build a turbine\, be part of a wave\, sit in a on-site workshop and get to
  work on turbine models and more!\n\nJoin and share the Facebook event an
 d email a2r(at)stopthearmsfair*org*uk to find out more.
ATTACH;FMTTYPE=image/jpeg:https://stopthearmsfair.org.uk/wp-content/upload
 s/arms-to-renewables-dsei.jpg
LOCATION:ExCeL Centre\, Eastern Entrance\, Royal Albert Way\, London\, E16 
 1RH\, United Kingdom
GEO:51.5083740115525;0.03724990472414902
X-APPLE-STRUCTURED-LOCATION;VALUE=URI;X-ADDRESS=Royal Albert Way\, London\,
  E16 1RH\, United Kingdom;X-APPLE-RADIUS=100;X-TITLE=ExCeL Centre\, Easter
 n Entrance:geo:51.5083740115525,0.03724990472414902
END:VEVENT
BEGIN:VTIMEZONE
TZID:Europe/London
X-LIC-LOCATION:Europe/London
BEGIN:DAYLIGHT
DTSTART:20170326T020000
TZOFFSETFROM:+0000
TZOFFSETTO:+0100
TZNAME:BST
END:DAYLIGHT
END:VTIMEZONE
END:VCALENDAR