BEGIN:VCALENDAR
VERSION:2.0
PRODID:-//wp-events-plugin.com//7.2.3.1//EN
TZID:Europe/London
X-WR-TIMEZONE:Europe/London
BEGIN:VEVENT
UID:195@stopthearmsfair.org.uk
DTSTART;TZID=Europe/London:20170909T100000
DTEND;TZID=Europe/London:20170909T180000
DTSTAMP:20170825T134840Z
URL:https://stopthearmsfair.org.uk/events/art-arms-fair-big-day-action/
SUMMARY:Art the Arms Fair at the Big Day of Action
DESCRIPTION:\n\nUse your creativity with Art the Arms Fair to make the DSEI
  arms fair visible.\n\nYou are invited to join Art the Arms Fair and make
  it the most talked about arms fair ever. The event will begin as a mass\,
  en plein air\, art event\, on 9th September 2017 as part of the Big Day 
 of Action against the arms fair. At 10am\, artists will come armed with ca
 nvases\, clay\, and their creativity to the site of the fair to Art the Ar
 ms Fair. All art and artists welcome from painting to performance\, sculpt
 ors to satirists.\n\nMore details about meeting points\, an accessibility 
 map\, transport links\, and ideas for inspiration\, are being worked on - 
 sign up at Art the Arms Fair to get the updates first.\n\nAll work produce
 d on the day will be taken to a nearby gallery to be shown alongside donat
 ed art works for an exhibition coinciding with the DSEI Arms Fair\, 12th-1
 5th September 2017. The art works will be sold and all proceeds will go to
  Campaign Against Arms Trade.\n\nLike and share Art the Arms Fair on Faceb
 ook.\n\n&nbsp\;
ATTACH;FMTTYPE=image/jpeg:https://stopthearmsfair.org.uk/wp-content/upload
 s/we-are-making-a-killing.jpg
LOCATION:ExCeL Centre\, Eastern Entrance\, Royal Albert Way\, London\, E16 
 1RH\, United Kingdom
GEO:51.5083740115525;0.03724990472414902
X-APPLE-STRUCTURED-LOCATION;VALUE=URI;X-ADDRESS=Royal Albert Way\, London\,
  E16 1RH\, United Kingdom;X-APPLE-RADIUS=100;X-TITLE=ExCeL Centre\, Easter
 n Entrance:geo:51.5083740115525,0.03724990472414902
END:VEVENT
BEGIN:VTIMEZONE
TZID:Europe/London
X-LIC-LOCATION:Europe/London
BEGIN:DAYLIGHT
DTSTART:20170326T020000
TZOFFSETFROM:+0000
TZOFFSETTO:+0100
TZNAME:BST
END:DAYLIGHT
END:VTIMEZONE
END:VCALENDAR