BEGIN:VCALENDAR
VERSION:2.0
PRODID:-//wp-events-plugin.com//7.2.3.1//EN
TZID:Europe/London
X-WR-TIMEZONE:Europe/London
BEGIN:VEVENT
UID:203@stopthearmsfair.org.uk
DTSTART;TZID=Europe/London:20170912T110000
DTEND;TZID=Europe/London:20170915T190000
DTSTAMP:20170825T111229Z
URL:https://stopthearmsfair.org.uk/events/art-arms-fair-exhibition/
SUMMARY:Art the Arms Fair: The Exhibition
DESCRIPTION:Whilst the world’s largest arms fair is selling weapons at th
 e ExCel Centre\, Art the Arms Fair will be highlighting the inhumanity of 
 the arms trade through an art exhibition.\n\nArt created at the Day of Cre
 ative Action\, work that has been sent by artists across the UK\, and art 
 from the local community will be exhibited. The art works will be for sale
  to support the work of Campaign Against Arms Trade.\n\n&nbsp\;\n\nDirecti
 ons\n\nNearest DLR is East India\, and Capstan House is across the footbri
 dge. SET is on the 7th Floor\, Capstan House: use the right hand lift shaf
 t. Enter the floor through Door 1 and turn right for the project space.\n\
 nEntry\n\nFree – no booking necessary.\n\nFind out more at artthearmsfai
 r.org. Join and share the event on Facebook.
ATTACH;FMTTYPE=image/jpeg:https://stopthearmsfair.org.uk/wp-content/upload
 s/Art-the-arms-fair-exhibition.jpg
LOCATION:SET Space\, SET Space\, 7th Floor\, Capstan House\, Clove Crescent
 \, London\, E14 2BA\, United Kingdom
GEO:51.5227616;-0.13668170000005375
X-APPLE-STRUCTURED-LOCATION;VALUE=URI;X-ADDRESS=SET Space\, 7th Floor\, Cap
 stan House\, Clove Crescent\, London\, E14 2BA\, United Kingdom;X-APPLE-RA
 DIUS=100;X-TITLE=SET Space:geo:51.5227616,-0.13668170000005375
END:VEVENT
BEGIN:VTIMEZONE
TZID:Europe/London
X-LIC-LOCATION:Europe/London
BEGIN:DAYLIGHT
DTSTART:20170326T020000
TZOFFSETFROM:+0000
TZOFFSETTO:+0100
TZNAME:BST
END:DAYLIGHT
END:VTIMEZONE
END:VCALENDAR