BEGIN:VCALENDAR
VERSION:2.0
PRODID:-//wp-events-plugin.com//7.2.3.1//EN
TZID:Europe/London
X-WR-TIMEZONE:Europe/London
BEGIN:VEVENT
UID:269@stopthearmsfair.org.uk
DTSTART;TZID=Europe/London:20210911T110000
DTEND;TZID=Europe/London:20210911T140000
DTSTAMP:20210903T180339Z
URL:https://stopthearmsfair.org.uk/events/bike-rave-finger-guns-only/
SUMMARY:bike rave Finger Guns Only!
DESCRIPTION:Critical Mass bike ride\, to #StopTheArmsFair\n\n11am meet in C
 undy Park (opposite Prince Regent DLR)\, to gather with music!\n\n12pm sta
 rt lapping the ExCeL Centre (where the arms fair is being held\, it will b
 e being set up on this day)\n\n2pm finish lapping\n\nThen join the Festiva
 l of Resistance\, with bands\, artists\, speakers &amp\; more!\n\nShare th
 e Facebook event and eventbrite
LOCATION:Cundy Park\, Newham\, Cundy Park\, Victoria Dock Road\, Custom Hou
 se\, Newham\, London\, E16 3DL\, United Kingdom
GEO:51.510319;0.031006
X-APPLE-STRUCTURED-LOCATION;VALUE=URI;X-ADDRESS=Cundy Park\, Victoria Dock 
 Road\, Custom House\, Newham\, London\, E16 3DL\, United Kingdom;X-APPLE-R
 ADIUS=100;X-TITLE=Cundy Park\, Newham:geo:51.510319,0.031006
END:VEVENT
BEGIN:VTIMEZONE
TZID:Europe/London
X-LIC-LOCATION:Europe/London
BEGIN:DAYLIGHT
DTSTART:20210328T020000
TZOFFSETFROM:+0000
TZOFFSETTO:+0100
TZNAME:BST
END:DAYLIGHT
END:VTIMEZONE
END:VCALENDAR