BEGIN:VCALENDAR
VERSION:2.0
PRODID:-//wp-events-plugin.com//7.2.3.1//EN
TZID:Europe/London
X-WR-TIMEZONE:Europe/London
BEGIN:VEVENT
UID:216@stopthearmsfair.org.uk
DTSTART;TZID=Europe/London:20171110T093000
DTEND;TZID=Europe/London:20180223T103000
DTSTAMP:20171025T150153Z
URL:https://stopthearmsfair.org.uk/events/court-solidarity-stop-arms-fair-
 defendants/
SUMMARY:Court Solidarity for Stop the Arms Fair defendants
DESCRIPTION:Stop the Arms Fair has had huge success this September\, with h
 undreds of people taking action to block the set up to the DSEI arms fair.
  Over 100 people were arrested during the week of action\, and we need you
 r help to support them as they face charges.\n\nCourt Solidarity Demonstra
 tions\n\nJoin us outside Stratford Magistrates Court (nearest Underground 
 and rail station is Stratford) to support the defendants at their plea hea
 rings at the following times:\n\n 	Friday 10th November 9 am\n 	Thursday 7
 th December 9am\n 	Wednesday January 10th 9am\n 	Thursday January 11th 9am
 \n 	Friday January 12th 9am\n 	Wednesday January 17th 9am\n 	Thursday Janu
 ary 18th 9am\n 	Wednesday January 24th 9am\n 	Thursday January 25th 9am\n 
 	Thursday February 1st 9am\n 	Friday February 2nd 9am\n 	Wednesday Februar
 y 7th 9am\n 	Thursday February 8th 9am\n 	Friday February 16th 9am\n 	Wedn
 esday February 21st 9am\n 	Thursday February 22nd 9am\n 	Friday February 2
 3rd 9am\n\n&nbsp\;\n\nDID YOU WITNESS AN ARREST OR POLICE VIOLENCE AT THE 
 STOP THE ARMS FAIR PROTESTS?\n\nWE NEED YOUR WITNESS STATEMENTS!\n\nThe so
 oner you can send in an account and any photos/video of arrests to Green a
 nd Black Cross (GBC)\, the better. Key information to include for a witnes
 s statement is:\n\n\n 	When\, where\, who\n 	What else was happening on si
 te? E.g. was the road closed by police\, were other people/actions blockin
 g the road?\n 	Any photos or videos of arrests or immediately before/after
 \n\nYou can find a witness statement template and some advice on drafting 
 statements on the GBC website here. Please send all materials to gbclegal@
 riseup.net. It makes a huge difference to people fighting charges\, so ple
 ase get in touch with GBC and help if you can.\n\n
LOCATION:Stratford Magistrates Court\, The Court House\, 389-397 High Stree
 t\, London\, E15 4SB\, United Kingdom
GEO:51.5391598;0.00029070000005049224
X-APPLE-STRUCTURED-LOCATION;VALUE=URI;X-ADDRESS=389-397 High Street\, Londo
 n\, E15 4SB\, United Kingdom;X-APPLE-RADIUS=100;X-TITLE=Stratford Magistra
 tes Court\, The Court House:geo:51.5391598,0.00029070000005049224
END:VEVENT
BEGIN:VTIMEZONE
TZID:Europe/London
X-LIC-LOCATION:Europe/London
BEGIN:STANDARD
DTSTART:20171029T010000
TZOFFSETFROM:+0100
TZOFFSETTO:+0000
TZNAME:GMT
END:STANDARD
END:VTIMEZONE
END:VCALENDAR