BEGIN:VCALENDAR
VERSION:2.0
PRODID:-//wp-events-plugin.com//7.2.3.1//EN
TZID:Europe/London
X-WR-TIMEZONE:Europe/London
BEGIN:VEVENT
UID:274@stopthearmsfair.org.uk
DTSTART;TZID=Europe/London:20210911T120000
DTEND;TZID=Europe/London:20210911T120000
DTSTAMP:20210904T123817Z
URL:https://stopthearmsfair.org.uk/events/festival-of-resistance-shut-down
 -dsei-2/
SUMMARY:Festival of Resistance - Shut Down DSEI Day of Action
DESCRIPTION:Join us for a day of music\, performance\, art and actions. The
 re will be amazing bands and DJs\, including Dub the Earth\, Boom Boom Rac
 oon and many more amazing artists. We will have incredible graffiti artist
 s showing off their talents\, and you're welcome to join in. There will ci
 rcus performance and plenty of dancing. Let's say no to these arms dealers
  in true festival style!\n\nThere will be a Critical Mass bike rave - Fing
 er Guns Only! setting off at 12pm from nearby Cundy Park (opposite Prince 
 Regent DLR) to join the Festival of Resistance.\n\nBring snacks. Lunch\, a
 nd a hot evening meal (from about 6pm) will be provided\, for a donation. 
 Tea and coffee will be available all day - bring your own mug!\n\n\nIf you
 're a musician or performer and would like to get involved please give us 
 a message via the Facebook event!\n\n\nClick attending on and share the Fa
 cebook events for the bike rave - Finger Guns Only! and the Festival of Re
 sistance.\n\n\n***********************************************************
 **********************\n\n\nInformation about transport to the site and ac
 cessibility.  If you need to know information that is not currently on th
 is page\, or to let us know about an access need\, get in touch at resistD
 SEI@protonmail.com.\n\nWe urge those coming to any action to be COVID-safe
 \, to protect our community and make this protest accessible to all.  Ple
 ase take a test before coming\, bring sanitiser and respect those who want
  to social distance.  Bring your own water bottle and mugs to get drinks 
 on site!\n\nInformation about your legal rights on protests.  Take the ti
 me to learn your rights before attending the week of action\, for your own
  protection and the protection of those around you.\n\n***IMPORTANT***\n\n
 It is crucial that everyone joining this wonderful week of resistance adhe
 res to the Stop the Arms Fair Safer Spaces Policy.  Please also take a lo
 ok at Campaign Against Arms Trade’s Action Guidelines on interactions wi
 th the police – who protect the arms trade\, are part of the arms trade\
 , and are institutionally racist – and on directing our protest at the a
 rms industry (and so being mindful of the local community!).\n\nGreen and 
 Black Cross will be coordinating legal observers throughout the week of ac
 tion.\n\n\n
LOCATION:ExCeL London East Gate\, 2 mins from Prince Regent DLR\, ExCel Lon
 don East Gate\, Royal Albert Way\, London\, E16 1FR\, United Kingdom
GEO:51.509031;0.037648
X-APPLE-STRUCTURED-LOCATION;VALUE=URI;X-ADDRESS=ExCel London East Gate\, Ro
 yal Albert Way\, London\, E16 1FR\, United Kingdom;X-APPLE-RADIUS=100;X-TI
 TLE=ExCeL London East Gate\, 2 mins from Prince Regent DLR:geo:51.509031,0
 .037648
END:VEVENT
BEGIN:VTIMEZONE
TZID:Europe/London
X-LIC-LOCATION:Europe/London
BEGIN:DAYLIGHT
DTSTART:20210328T020000
TZOFFSETFROM:+0000
TZOFFSETTO:+0100
TZNAME:BST
END:DAYLIGHT
END:VTIMEZONE
END:VCALENDAR