BEGIN:VCALENDAR
VERSION:2.0
PRODID:-//wp-events-plugin.com//7.2.3.1//EN
TZID:Europe/London
X-WR-TIMEZONE:Europe/London
BEGIN:VEVENT
UID:189@stopthearmsfair.org.uk
DTSTART;TZID=Europe/London:20170909T100000
DTEND;TZID=Europe/London:20170909T180000
DTSTAMP:20170831T153151Z
URL:https://stopthearmsfair.org.uk/events/festival-resistance/
SUMMARY:Festival of Resistance
DESCRIPTION:On Saturday 9th September the Festival of Resistance to Stop DS
 EI will be the biggest event of the Stop The Arms Fair week of action. Exp
 ect a bright and colourful party-protest with live music\, speakers\, work
 shops and dancing! It's family friendly and all are welcome as we unite ou
 tside the ExCel Centre to shutdown the arms fair. Join us as we dance to d
 isarm and party for peace!\nSpeakers\nBahrain Institute for Rights &amp\; 
 Democracy\nInternational Campaign for Freedom in the UAE\nKurdistan Solida
 rity Campaign\nCampaign Against Arms Trade\nSisters Uncut\nStop The Arms F
 air\nWar Resisters' International\nMusic and performances\nFrom hip-hop an
 d spoken word to choirs\, comedy and sing alongs\, including:\nLogic &amp\
 ; The Peoples Army\nMizan The Poet\nChorus of Dissent\nRaised Voices\nStra
 wberry Thieves\n\nPlus: meditation workshop\, craft tent\, breakout sessio
 ns\, live art from Art The Arms Fair\, and loads more performers\, speaker
 s and DJs to be announced!\n\nBring your family\, friends\, and fancy dres
 s to this Festival of Resistance and stop the military equipment being rol
 led into the arms fair so it can't go ahead!\n\nHead to Prince Regent DLR 
 station from 10am then head east: there will be signs showing you where to
  go.\n\nWar\, repression and injustice start at DSEI. Let's stop them here
 .\nMore information\nOther actions planned 4-11 September.\n\nInfo on know
 ing your rights at protests.\n\nAccessibility info about the site and the 
 protest.\n\nJoin and share our Facebook event.\n\nContact info(at)stopthea
 rmsfair*org*uk for further information.
LOCATION:ExCeL London East Gate\, 2 mins from Prince Regent DLR\, ExCel Lon
 don East Gate\, Royal Albert Way\, London\, E16 1FR\, United Kingdom
GEO:51.509031;0.037648
X-APPLE-STRUCTURED-LOCATION;VALUE=URI;X-ADDRESS=ExCel London East Gate\, Ro
 yal Albert Way\, London\, E16 1FR\, United Kingdom;X-APPLE-RADIUS=100;X-TI
 TLE=ExCeL London East Gate\, 2 mins from Prince Regent DLR:geo:51.509031,0
 .037648
END:VEVENT
BEGIN:VTIMEZONE
TZID:Europe/London
X-LIC-LOCATION:Europe/London
BEGIN:DAYLIGHT
DTSTART:20170326T020000
TZOFFSETFROM:+0000
TZOFFSETTO:+0100
TZNAME:BST
END:DAYLIGHT
END:VTIMEZONE
END:VCALENDAR