BEGIN:VCALENDAR
VERSION:2.0
PRODID:-//wp-events-plugin.com//7.2.3.1//EN
TZID:Europe/London
X-WR-TIMEZONE:Europe/London
BEGIN:VEVENT
UID:184@stopthearmsfair.org.uk
DTSTART;TZID=Europe/London;VALUE=DATE:20170907
DTEND;TZID=Europe/London;VALUE=DATE:20170908
DTSTAMP:20170903T214049Z
URL:https://stopthearmsfair.org.uk/events/free-movement-people-not-weapons
 /
SUMMARY:Free Movement for People\, not Weapons!
DESCRIPTION:Join us and take action to call for free movement for people\, 
 not weapons. We will be sharing food\, dance\, cabaret performances\, musi
 c and stories at the gates of the arms fair while an alternative “border
  force” take action to block weaponry and equipment from entering the fa
 ir.\n\nIn September 2017 DSEI\, one of the world's biggest arms fairs\, is
  coming to London. The weapons sold here fuel death\, destruction and inju
 stice perpetrated by militaries\, police forces and at borders around the 
 world. As militarised borders kill tens of thousands of people every year\
 , the arms dealers and weapons companies seeking to profit from this inhum
 ane treatment of migrants are being welcomed to London.\n\nWe stand agains
 t those who seek to profit from these deadly borders and call for free mov
 ement for people- not weapons. Please join and share the Facebook event to
  help us spread the word!\n\nHow to get involved:\n\n 	Come along on the d
 ay! Bring friends and food to share.\n 	Join and share the facebook event\
 , and tweet on #StopDSEI\n 	Help with transport costs and accommodation is
  available and we will prioritise funding for migrants and people with low
 /no income. Please get in touch on freemovement(at)stopthearmsfair*org*uk 
 to discuss this.\n\nWe've got some great workshops and events lined up\, a
 s well as a craft space with screen printing\, zine making\, knitting and 
 art activities running all day! \n\n11.30am: Welcome\, and introduction 
 to the space\; know your rights briefing and games\n\n\n\n12 Noon: Jeyas
 eelan Thirukkumaran from Migrants Organise will lead a South Asian dance w
 orkshop that uses the movements and music of South Asian resistance\n\n1pm
 : Free vegan lunch served by North London Food Not Bombs\n\n2pm: All Afr
 ican Women's Group will be performing "We are Here Because You Were There"
 -  a play that takes you through the asylum process\, the discrimination 
 and difficulties  women often face from when they arrive in the UK and c
 laim asylum\, including detention\, how they are treated by Home Officials
 \, their lawyer and Immigration Judges . . . plus how self-help as part of
  the movement for justice spearheaded by asylum seekers\, helps us overcom
 e this and win happy endings!\n\n3pm: Open Mic session\n\n3.30pm: SOAS De
 tainee Support group will run a workshop on practical support for people i
 n detention\n\n4pm: Women of Colour in the Global Womens Strike will run 
 a workshop on women in conflict zones\, with Kurdish and Tamil women speak
 ers\n\n5pm: Queefy will be bringing queer caberet and performance\n\n6pm
 : DJ set from El Tuma\, part of MARICUMBIA\, a queer Latinx DJ collectiv
 e\n\n\n\n&nbsp\;
LOCATION:ExCeL Centre\, Eastern Entrance\, Royal Albert Way\, London\, E16 
 1RH\, United Kingdom
GEO:51.5083740115525;0.03724990472414902
X-APPLE-STRUCTURED-LOCATION;VALUE=URI;X-ADDRESS=Royal Albert Way\, London\,
  E16 1RH\, United Kingdom;X-APPLE-RADIUS=100;X-TITLE=ExCeL Centre\, Easter
 n Entrance:geo:51.5083740115525,0.03724990472414902
END:VEVENT
BEGIN:VTIMEZONE
TZID:Europe/London
X-LIC-LOCATION:Europe/London
BEGIN:DAYLIGHT
DTSTART:20170326T020000
TZOFFSETFROM:+0000
TZOFFSETTO:+0100
TZNAME:BST
END:DAYLIGHT
END:VTIMEZONE
END:VCALENDAR