BEGIN:VCALENDAR
VERSION:2.0
PRODID:-//wp-events-plugin.com//7.2.3.1//EN
TZID:Europe/London
X-WR-TIMEZONE:Europe/London
BEGIN:VEVENT
UID:286@stopthearmsfair.org.uk
DTSTART;TZID=Europe/London:20210914T150000
DTEND;TZID=Europe/London:20210914T210000
DTSTAMP:20210903T155705Z
URL:https://stopthearmsfair.org.uk/events/friends-of-al-aqsa-gaza-gallery-
 and-stoparmingisrael-protest/
SUMMARY:Friends of Al-Aqsa Gaza Gallery and #StopArmingIsrael Protest
DESCRIPTION:At least 10 Israeli arms/surveillance companies will be in atte
 ndance at DSEI\, advertising military hardware and equipment that has been
  used to harm and oppress innocent Palestinians.\n\nPresent at the fair wi
 ll be Elbit Systems\, Israel’s largest privately-owned arms company\, sp
 ecialised in drone warfare.  Worth noting\, Elbit Systems supplies the Is
 raeli military with at least 85 percent of its drones.\n\nIsrael\, respons
 ible for an extensive list of war crimes\, has violated over 40 United Nat
 ions Resolutions.  This list is expected to grow\, as long as the colonis
 ation of Palestine continues.\n\nJoin Friends of Al-Aqsa on Tuesday 14 Sep
 tember!\n\nAs part of their #StopArmingIsrael campaign\, they will be doin
 g the following actions:\n\n 	From 3pm: Host a creative gallery – design
 ed to capture the destruction caused in Gaza by Israeli weapons.\n 	From 6
 pm: Protest against the DSEI arms fair and Israel’s brutality.\n\nThis e
 vent will take place alongside the Tank the Arms Fair Day of Action\, on t
 he opening day of the arms fair.\n\nShare the event to spread the word!
LOCATION:ExCeL Centre West\, near The Crystal\, Seagull Lane (DLR: Royal Vi
 ctoria)\, ExCeL Centre West\, near The Crystal\, Seagull Lane\, London\, E
 16 1GB\, United Kingdom
GEO:51.50798;0.017016
X-APPLE-STRUCTURED-LOCATION;VALUE=URI;X-ADDRESS=ExCeL Centre West\, near Th
 e Crystal\, Seagull Lane\, London\, E16 1GB\, United Kingdom;X-APPLE-RADIU
 S=100;X-TITLE=ExCeL Centre West\, near The Crystal\, Seagull Lane (DLR: Ro
 yal Victoria):geo:51.50798,0.017016
END:VEVENT
BEGIN:VTIMEZONE
TZID:Europe/London
X-LIC-LOCATION:Europe/London
BEGIN:DAYLIGHT
DTSTART:20210328T020000
TZOFFSETFROM:+0000
TZOFFSETTO:+0100
TZNAME:BST
END:DAYLIGHT
END:VTIMEZONE
END:VCALENDAR