BEGIN:VCALENDAR
VERSION:2.0
PRODID:-//wp-events-plugin.com//7.2.3.1//EN
TZID:Europe/London
X-WR-TIMEZONE:Europe/London
BEGIN:VEVENT
UID:212@stopthearmsfair.org.uk
DTSTART;TZID=Europe/London:20170904T190000
DTEND;TZID=Europe/London:20170904T203000
DTSTAMP:20170825T152634Z
URL:https://stopthearmsfair.org.uk/events/gig-vs-arms-fair-stop-arming-isr
 ael/
SUMMARY:GIG Vs. ARMS FAIR! Stop Arming Israel!
DESCRIPTION:This September\, London is hosting one of the world's biggest a
 rms fairs\, DSEI. We need your help to shut it down before it starts. We'v
 e got a fun\, packed programme to keep you engaged throughout the day.\n\n
 MUSIC GIG\n\n7-8:30pm!\nEfa Supertramp\nDAVE RANDALL DJ (Faithless)\nSOME 
 F**KING PEOPLE\nJAZZAR KATIBE 5 &amp\; BAZ\n\nWe'll have a welcome tent\, 
 a kids space and a portaloo – you can come for the whole day or just pop
  in! We're meeting in a green space near the Excel Centre.\n\nJoin and sha
 re the event on Facebook.
ATTACH;FMTTYPE=image/jpeg:https://stopthearmsfair.org.uk/wp-content/upload
 s/gig-vs-arms-fair-stop-arming-israel.jpg
LOCATION:ExCeL Centre\, Eastern Entrance\, Royal Albert Way\, London\, E16 
 1RH\, United Kingdom
GEO:51.5083740115525;0.03724990472414902
X-APPLE-STRUCTURED-LOCATION;VALUE=URI;X-ADDRESS=Royal Albert Way\, London\,
  E16 1RH\, United Kingdom;X-APPLE-RADIUS=100;X-TITLE=ExCeL Centre\, Easter
 n Entrance:geo:51.5083740115525,0.03724990472414902
END:VEVENT
BEGIN:VTIMEZONE
TZID:Europe/London
X-LIC-LOCATION:Europe/London
BEGIN:DAYLIGHT
DTSTART:20170326T020000
TZOFFSETFROM:+0000
TZOFFSETTO:+0100
TZNAME:BST
END:DAYLIGHT
END:VTIMEZONE
END:VCALENDAR