BEGIN:VCALENDAR
VERSION:2.0
PRODID:-//wp-events-plugin.com//7.2.3.1//EN
TZID:Europe/London
X-WR-TIMEZONE:Europe/London
BEGIN:VEVENT
UID:324@stopthearmsfair.org.uk
DTSTART;TZID=Europe/London:20250909T080000
DTEND;TZID=Europe/London:20250909T170000
DTSTAMP:20250907T205215Z
URL:https://stopthearmsfair.org.uk/events/no-faith-in-war-2025/
SUMMARY:No Faith in War DAY
DESCRIPTION:&nbsp\;\n\nMonday 8th\n\n\nGathering\nTiming\nLocation\nGroups 
 organising\n\n\n\n\nWalk of Witness\nFrom 1pm for 2pm start\nWestminster Q
 uaker Meeting House\nQuaker ROOTS\n\n\nTaize Against the Tanks\n(Have a re
 ad of the songsheet)\nThis will lead into the vigil.\n6pm\nWest Pedestrian
  Entrance (near Royal Victoria DLR)\nRevs Chris &amp\; Matt\n\n\nSilent Vi
 gil\n(bring candles)\n6.30pm for 7pm start\nRoyal Victoria DLR Meeting poi
 nt\nPax Christi\nQuaker Peace &amp\; Social Witness\n\n\n\n\n&nbsp\;\n\nTu
 esday 9th: No Faith in War\n\n\nGathering\nTiming\nLocation\nGroups organi
 sing\n\n\n\n\nPlacards &amp\; Talking with Arms Dealers &amp\;\nShort Litu
 rgy\nFrom 8am\nWest Pedestrian Entrance (near Royal Victoria DLR)\nChristi
 ans for Palestine \n&amp\; Short Liturgy from Pax Christi\n\n\nJewish Grie
 f Ritual\n10am\nWest Pedestrian Entrance (near Royal Victoria DLR)\nJewish
  Bloc\n\n\nService of Christian Worship\nFrom 11am\nWest Pedestrian Entran
 ce (near Royal Victoria DLR)\nAnglican Pacifist Fellowship &amp\;\nChurch 
 of the Ascension\n\n\nQuaker Meeting for Worship\n12noon\nWest Pedestrian 
 Entrance (near Royal Victoria DLR)\nQuaker ROOTS\n\n\nWe encourage protest
 ors to pray on the DLR stations individually and silently as arms dealers 
 leave the exhibition\n4-5pm\nDLR Stations (Custom House\, Royal Victoria &
 amp\; Prince Regent)\n\n\n\n\n&nbsp\;\n\n
ATTACH;FMTTYPE=image/jpeg:https://stopthearmsfair.org.uk/wp-content/upload
 s/No-faith-in-war.png
LOCATION:ExCeL Centre\, Western Entrance\, ExCeL London Exhibition Centre\,
  One Western Gateway Royal Victoria Dock\, London\, E16 1XL\, United Kingd
 om
GEO:51.50816;0.027119900000002417
X-APPLE-STRUCTURED-LOCATION;VALUE=URI;X-ADDRESS=ExCeL London Exhibition Cen
 tre\, One Western Gateway Royal Victoria Dock\, London\, E16 1XL\, United 
 Kingdom;X-APPLE-RADIUS=100;X-TITLE=ExCeL Centre\, Western Entrance:geo:51.
 50816,0.027119900000002417
END:VEVENT
BEGIN:VTIMEZONE
TZID:Europe/London
X-LIC-LOCATION:Europe/London
BEGIN:DAYLIGHT
DTSTART:20250330T020000
TZOFFSETFROM:+0000
TZOFFSETTO:+0100
TZNAME:BST
END:DAYLIGHT
END:VTIMEZONE
END:VCALENDAR