BEGIN:VCALENDAR
VERSION:2.0
PRODID:-//wp-events-plugin.com//7.2.3.1//EN
TZID:Europe/London
X-WR-TIMEZONE:Europe/London
BEGIN:VEVENT
UID:235@stopthearmsfair.org.uk
DTSTART;TZID=Europe/London:20190903T090000
DTEND;TZID=Europe/London:20190903T190000
DTSTAMP:20190829T221234Z
URL:https://stopthearmsfair.org.uk/events/no-faith-in-war-day-2-week-of-ac
 tion-stop-the-arms-fair-2019/
SUMMARY:No Faith in War (Day 2 - Week of Action\, Stop the Arms Fair 2019)
DESCRIPTION:&nbsp\;\n\n[caption id="attachment_4020" align="alignnone" widt
 h="635"] Join us for a day of prayer and action to Stop the Arms Fair![/ca
 ption]\nWhy Take Action?\nMuslim\, Christian\, Jewish\, Buddhist\, Quaker\
 , Sikh\, yogis\, people of all faiths and none will gather to call for an 
 end to the DSEI arms fair and all profiting from war.\n\nWe will use our f
 aith traditions\, practices and rituals to express our sorrow and horror a
 t the arms fair\, standing in solidarity with each other and those affecte
 d by weapons sales. We will stand against the opponents of peace using our
  prayers\, words and action with a day of non-violent protest.\n\nIn the a
 fternoon we will take part in a creative action to share our hope for peac
 e\, surrounding the ourselves and the weapons of war in love - using our o
 wn arms for peace!\n\nDifferent groups are leading different parts of the 
 day so check out the schedule below for more info. If you've never been be
 fore\, look out for the welcome tent and come along!\nWhat's happening?\nA
 ll-Faith Creative Actions\n\nFrom 11.00am: Building a wall of words agains
 t the arms fair using our sacred texts (bring a placard if you can!)\n\nFr
 om 3.00pm: Using our own arms for love! Surrounding ourselves and the arms
  fair with healing love\, hope &amp\; prayers (inc prayer flag making)\n\n
 &nbsp\;\n\nProcessions and prayers led  by different faith groups \n\n09:
 00-10:00\n\nQuaker Meeting for Worship\n\n09:00 - 10:00\n\nBattersea Peace
  Pagoda procession from the Gandhi Chaplin Memorial Garden (E16 1PY)\n\n09
 :15-10:00\nGathering at Anglican Church of Ascension (E16 3HJ) for liturgy
  and procession to East GAte\n\n10:00-11:00\nGathering at St Anne's Cathol
 ic Church (E16 3DR) for procession to East Gate\n\n10:00-11:00\nWake Up Lo
 ndon - Plum Village - Peace Walk Buddhist meditation\, location tbc\n\n11:
 00\nBIG COLLECTIVE ACTION - building a wall against the arms fair with our
  placards and holy words\n\n13:00-13:30\nMuslim and communal prayers\n\n13
 :30\nShared Lunch (Hare Krishna vegan lunch)\n\n14:00-15:00\nQuaker meetin
 g for worship\n\n15:00\nBIG COLLECTIVE ACTION - prayer flag making (from 2
 pm) and surrounding the arms fair with love!\n\n15:00\nSufi dancing\n\n16:
 41\nMuslim and communal prayers\n\n18:30-19:30\nQuaker epilogue\n\n19:00\n
 Wreath laying in remembrance of victims of war\nFurther Information\nHoste
 d by No Faith in War 2019\, Christians Against the Arms Fair\, Campaign Ag
 ainst Arms Trade and Stop the Arms Fair.\n\nMore information may be found 
 on the Facebook event: https://www.facebook.com/events/2359593814126040/\n
 \nInformation on accessibility and welfare and know your rights.\n\nPlease
  review the Stop the Arms Fair safer spaces policy: https://www.stopthearm
 sfair.org.uk/safer-spaces-policy/.\n\nPlease also have a look at the Campa
 ign Against Arms Trade action guidelines: https://www.caat.org.uk/about/ac
 tion-guidelines.\n\nPart of the Stop the Arms Fair week of action at Londo
 n's Docklands 2nd-8th September\, 2019. Find out more about the full week 
 of action and other vigils and events (running 2nd-13th Sept) at https://w
 ww.stopthearmsfair.org.uk/join-in/\n\nWar starts here - let’s stop it he
 re. #StopDSEI\n\n&nbsp\;
ATTACH;FMTTYPE=image/jpeg:https://stopthearmsfair.org.uk/wp-content/upload
 s/day2nfiw.jpg
LOCATION:ExCeL Centre\, Eastern Entrance\, Royal Albert Way\, London\, E16 
 1RH\, United Kingdom
GEO:51.5083740115525;0.03724990472414902
X-APPLE-STRUCTURED-LOCATION;VALUE=URI;X-ADDRESS=Royal Albert Way\, London\,
  E16 1RH\, United Kingdom;X-APPLE-RADIUS=100;X-TITLE=ExCeL Centre\, Easter
 n Entrance:geo:51.5083740115525,0.03724990472414902
END:VEVENT
BEGIN:VTIMEZONE
TZID:Europe/London
X-LIC-LOCATION:Europe/London
BEGIN:DAYLIGHT
DTSTART:20190331T020000
TZOFFSETFROM:+0000
TZOFFSETTO:+0100
TZNAME:BST
END:DAYLIGHT
END:VTIMEZONE
END:VCALENDAR