BEGIN:VCALENDAR
VERSION:2.0
PRODID:-//wp-events-plugin.com//7.2.3.1//EN
TZID:Europe/London
X-WR-TIMEZONE:Europe/London
BEGIN:VEVENT
UID:186@stopthearmsfair.org.uk
DTSTART;TZID=Europe/London:20170906T090000
DTEND;TZID=Europe/London:20170906T210000
DTSTAMP:20170831T151632Z
URL:https://stopthearmsfair.org.uk/events/no-nuclear-weapons-no-arms-fair/
SUMMARY:No to Nuclear Weapons: No to the Arms Fair
DESCRIPTION:Nuclear weapons don’t make us safer: they threaten all our li
 ves. Trident is estimated to cost the UK over £205 billion and is drainin
 g vital public resources away from the things in which we need to invest: 
 schools\, hospitals and social services. We are spending billions to kill 
 millions. The arms companies that profit from nuclear weapons and drain ou
 r resources away from us plan to be present at the arms fair. Join Tride
 nt Ploughshares and regional CND groups on Wednesday 6th September to stop
  military equipment from being moved into the arms fair during the set-up 
 and for fun\, family-friendly activities including a Mad Hatter’s Tea Pa
 rty and singers.\n\nAs well as nonviolent direct action\, there will be a 
 lot to get involved with including demonstrating\, creative stunts\, media
  work and general support. Just let us know what you are up for.\n\nThere 
 will be accommodation available in East London (bring a sleeping bag) with
  the opportunity to attend training and form affinity groups and transport
  is being arranged from the North of England and possibly Scotland. Please
  get in touch if you are likely to need accommodation or to book your plac
 e on a bus down from the North.  Buses leaving in the afternoon of Tuesda
 y 5th September from Bradford\, Leeds and Sheffield Meadowhall and return
 ing on Wednesday evening can be booked directly online.\n\nIf you’d like
  to get involved\, please fill out this quick survey\, join our Facebook
  event or get in touch at nonuclearday(at)riseup*net.\n\nUse the Royal V
 ictoria Docklands Light Railway station for the Mad Hatter's Tea Party and
  singers (people will gather from around 10 am somewhere in the vicinity o
 f the West Gate of the ExCel Centre) and the Prince Regent Docklands Light
  Railway Station for other anti-nuclear actions at the East Gate of the Ex
 Cel Centre\, where we will be joined by Arms to Renewables.\n\nIf you are
  joining the Mad Hatter's Tea Party you may wish to come dressed as a play
 ing card or other character from Alice in Wonderland.
ATTACH;FMTTYPE=image/jpeg:https://stopthearmsfair.org.uk/wp-content/upload
 s/Join-in-credit-Jess-Hurd-no-to-nuclear-weapons-no-to-the-arms-fair.jpg
LOCATION:ExCeL Centre (East & West Entrances)\, Eastern Entrance &amp\; Wes
 tern Entrance\, ExCeL Exhibition Centre\, Royal Victoria Dock\, 1 Western 
 Gateway\,\, London\, E16 1XL\, United Kingdom
GEO:51.5084306;0.025559400000020105
X-APPLE-STRUCTURED-LOCATION;VALUE=URI;X-ADDRESS=Eastern Entrance & Western 
 Entrance\, ExCeL Exhibition Centre\, Royal Victoria Dock\, 1 Western Gatew
 ay\,\, London\, E16 1XL\, United Kingdom;X-APPLE-RADIUS=100;X-TITLE=ExCeL 
 Centre (East & West Entrances):geo:51.5084306,0.025559400000020105
END:VEVENT
BEGIN:VTIMEZONE
TZID:Europe/London
X-LIC-LOCATION:Europe/London
BEGIN:DAYLIGHT
DTSTART:20170326T020000
TZOFFSETFROM:+0000
TZOFFSETTO:+0100
TZNAME:BST
END:DAYLIGHT
END:VTIMEZONE
END:VCALENDAR