BEGIN:VCALENDAR
VERSION:2.0
PRODID:-//wp-events-plugin.com//7.2.3.1//EN
TZID:Europe/London
X-WR-TIMEZONE:Europe/London
BEGIN:VEVENT
UID:181@stopthearmsfair.org.uk
DTSTART;TZID=Europe/London;VALUE=DATE:20170904
DTEND;TZID=Europe/London;VALUE=DATE:20170911
DTSTAMP:20170825T134641Z
URL:https://stopthearmsfair.org.uk/events/occupy-arms-fair-stop-dsei-camp/
SUMMARY:Occupy the Arms Fair! Stop DSEI camp
DESCRIPTION:The week of action to #StopDSEI involves days of talks\, events
  and direct action. Alongside the themed days of action\, there will be a 
 tent based occupation running from Monday 4th to Sunday 10th September.\n\
 nIf you have to travel far to join the week of action\, you might want to 
 bring a tent and enjoy the September weather! During the 2015 week of acti
 on to the Stop the Arms Fair we camped on a small grassy bank that sustain
 ed us for the duration – in \, fact the camp remained occupied past the 
 final day of action as people wanted to stay on. You can see the video rep
 orts that Occupy made here\, to get a feel for what camping at DSEI was li
 ke in 2015. This year\, Occupy will be back for a week-long camp during th
 e week of action\, creating a friendly space for people to come and stay.\
 n\nIf you'd like to join\, then bring yourself\, your camping equipment\, 
 and read our Camping at DSEI FAQ. You can also like Occupy the Arms Fair o
 n Facebook for updates\, and to follow the news from camp during the week 
 of action!\n\nLike and share the Occupy the Arms Fair page on Facebook.
LOCATION:ExCeL Centre\, Eastern Entrance\, Royal Albert Way\, London\, E16 
 1RH\, United Kingdom
GEO:51.5083740115525;0.03724990472414902
X-APPLE-STRUCTURED-LOCATION;VALUE=URI;X-ADDRESS=Royal Albert Way\, London\,
  E16 1RH\, United Kingdom;X-APPLE-RADIUS=100;X-TITLE=ExCeL Centre\, Easter
 n Entrance:geo:51.5083740115525,0.03724990472414902
END:VEVENT
BEGIN:VTIMEZONE
TZID:Europe/London
X-LIC-LOCATION:Europe/London
BEGIN:DAYLIGHT
DTSTART:20170326T020000
TZOFFSETFROM:+0000
TZOFFSETTO:+0100
TZNAME:BST
END:DAYLIGHT
END:VTIMEZONE
END:VCALENDAR