BEGIN:VCALENDAR
VERSION:2.0
PRODID:-//wp-events-plugin.com//7.2.3.1//EN
TZID:Europe/London
X-WR-TIMEZONE:Europe/London
BEGIN:VEVENT
UID:205@stopthearmsfair.org.uk
DTSTART;TZID=Europe/London:20170911T180000
DTEND;TZID=Europe/London:20170911T220000
DTSTAMP:20170825T111838Z
URL:https://stopthearmsfair.org.uk/events/opening-night-art-arms-fair/
SUMMARY:The Opening Night of Art the Arms Fair
DESCRIPTION:An ideal opportunity for buyers to come and see the exhibition.
 \n\nThe fantastic Cassetteboy will also be playing\, alongiwth the legend 
 that is DJ Rubbish.\n\nSuggested donations for Campaign Against Arms Trade
  on the door – £5 unwaged/£10 waged/£20 loaded.\n\nThere will be a ba
 r. We reserve the right to give your ticket to someone on the door if you 
 are not in the venue by 7.45pm.\n\nDirections\n\nNearest DLR is East India
 \, and Capstan House is across the footbridge. SET is on the 7th Floor\, C
 apstan House: use the right hand lift shaft. Enter the floor through Door 
 1 and turn right for the project space.\n\nEntry\n\nFree – booking advis
 ed. Register on Eventbrite.\n\nFind out more at artthearmsfair.org. Join a
 nd share the event on Facebook.
ATTACH;FMTTYPE=image/jpeg:https://stopthearmsfair.org.uk/wp-content/upload
 s/Art-the-arms-fair-opening-night.jpg
LOCATION:SET Space\, SET Space\, 7th Floor\, Capstan House\, Clove Crescent
 \, London\, E14 2BA\, United Kingdom
GEO:51.5227616;-0.13668170000005375
X-APPLE-STRUCTURED-LOCATION;VALUE=URI;X-ADDRESS=SET Space\, 7th Floor\, Cap
 stan House\, Clove Crescent\, London\, E14 2BA\, United Kingdom;X-APPLE-RA
 DIUS=100;X-TITLE=SET Space:geo:51.5227616,-0.13668170000005375
END:VEVENT
BEGIN:VTIMEZONE
TZID:Europe/London
X-LIC-LOCATION:Europe/London
BEGIN:DAYLIGHT
DTSTART:20170326T020000
TZOFFSETFROM:+0000
TZOFFSETTO:+0100
TZNAME:BST
END:DAYLIGHT
END:VTIMEZONE
END:VCALENDAR