BEGIN:VCALENDAR
VERSION:2.0
PRODID:-//wp-events-plugin.com//7.2.3.1//EN
TZID:Europe/London
X-WR-TIMEZONE:Europe/London
BEGIN:VEVENT
UID:290@stopthearmsfair.org.uk
DTSTART;TZID=Europe/London:20210914T103000
DTEND;TZID=Europe/London:20210914T130000
DTSTAMP:20210907T100130Z
URL:https://stopthearmsfair.org.uk/events/pax-christi-peace-pilgrimage/
SUMMARY:Pax Christi Peace Pilgrimage
DESCRIPTION:Meet at 10.30am at St Anne's RC Church\, 1 Berwick Road\, Custo
 m House\, London EC16 3DR\n\nTo walk to the ExCeL Centre for the DSEI day 
 of Action.\n\nNearest Station: Prince Regent DLR.\n\nAll welcome to join u
 s.\n\nThere is a very good Community Café near to ExCel\, in Cundy Road\,
  called The Garden Cafe but it can get very busy. You may want to bring yo
 ur own refreshments.\n\nIt would be helpful if you could let us know that 
 you are hoping to come\, by emailing info@paxchristi.org.uk\n\nThis will e
 nable us to let you know if there are any changes due to Police Security a
 rrangements.
LOCATION:St Anne's Roman Catholic Church\, St Annes Church\, 1 Berwick Rd\,
  London \, UK\, E16 3DR\, Greater London\, United Kingdom
X-APPLE-STRUCTURED-LOCATION;VALUE=URI;X-ADDRESS=St Annes Church\, 1 Berwick
  Rd\, London \, UK\, E16 3DR\, Greater London\, United Kingdom;X-APPLE-RAD
 IUS=100;X-TITLE=St Anne's Roman Catholic Church:geo:0,0
END:VEVENT
BEGIN:VTIMEZONE
TZID:Europe/London
X-LIC-LOCATION:Europe/London
BEGIN:DAYLIGHT
DTSTART:20210328T020000
TZOFFSETFROM:+0000
TZOFFSETTO:+0100
TZNAME:BST
END:DAYLIGHT
END:VTIMEZONE
END:VCALENDAR