BEGIN:VCALENDAR
VERSION:2.0
PRODID:-//wp-events-plugin.com//7.2.3.1//EN
TZID:Europe/London
X-WR-TIMEZONE:Europe/London
BEGIN:VEVENT
UID:294@stopthearmsfair.org.uk
DTSTART;TZID=Europe/London:20230905T180000
DTEND;TZID=Europe/London:20230905T190000
DTSTAMP:20230804T200058Z
URL:https://stopthearmsfair.org.uk/events/psc-vigil/
SUMMARY:Palestine Solidarity Campaign Stop DSEI Vigil
DESCRIPTION:Join PSC to show solidarity with Palestinians and others resist
 ing racism\, colonialism and state violence as we’re led by artists and 
 activists in opposing DSEI though speeches\, readings and spoken word.
LOCATION:Cundy Park\, Newham\, Cundy Park\, Victoria Dock Road\, Custom Hou
 se\, Newham\, London\, E16 3DL\, United Kingdom
GEO:51.510319;0.031006
X-APPLE-STRUCTURED-LOCATION;VALUE=URI;X-ADDRESS=Cundy Park\, Victoria Dock 
 Road\, Custom House\, Newham\, London\, E16 3DL\, United Kingdom;X-APPLE-R
 ADIUS=100;X-TITLE=Cundy Park\, Newham:geo:51.510319,0.031006
END:VEVENT
BEGIN:VTIMEZONE
TZID:Europe/London
X-LIC-LOCATION:Europe/London
BEGIN:DAYLIGHT
DTSTART:20230326T020000
TZOFFSETFROM:+0000
TZOFFSETTO:+0100
TZNAME:BST
END:DAYLIGHT
END:VTIMEZONE
END:VCALENDAR