BEGIN:VCALENDAR
VERSION:2.0
PRODID:-//wp-events-plugin.com//7.2.3.1//EN
TZID:Europe/London
X-WR-TIMEZONE:Europe/London
BEGIN:VEVENT
UID:183@stopthearmsfair.org.uk
DTSTART;TZID=Europe/London:20170904T100000
DTEND;TZID=Europe/London:20170904T203000
DTSTAMP:20170831T165740Z
URL:https://stopthearmsfair.org.uk/events/stop-arming-israel-stop-arms-fai
 r/
SUMMARY:Stop Arming Israel! Stop The Arms Fair!
DESCRIPTION:This September\, London is hosting one of the world's biggest a
 rms fairs\, DSEI. We need your help to shut it down before it starts!\n\n\
 n\nIsrael has a massive presence at DSEI. They use the mass murder of Pale
 stinians as a selling point\, calling weapons “battle tested”. The Pal
 estinian voice is clear: until there are sanctions against Israel\, we nee
 d to take matters into our own hands.\n\nIf they can’t get the weapons i
 n\, then they can’t have an arms fair. London Palestine Action are kicki
 ng off this 'week of action' to block the set-up with a day to Stop Arming
  Israel! With music\, workshops\, and bucket-loads of food\, we are using 
 our creativity to shut down their destruction.\n\nEveryone is welcome to c
 ome\, and we need as many people as possible taking action. As you can see
  from the timetable of events below\, whatever your age or activist experi
 ence\, there will be something for everyone so please come and join us! Yo
 u can also help us spread the word by sharing the Facebook event\, and che
 ck out the action report from 2015 to see what we did last time DSEI came 
 to town!\n\nHow to get involved:\n\n 	Come along on the day! Bring friends
 \, food\, and Palestinian flags if you have them.\n 	If you want to come f
 rom outside London\, we may be able to help with transport costs and accom
 modation - email us on londonpalestineaction+dsei(at)gmail*com. There will
  also be an Occupy camp at DSEI if you fancy camping.\n\nWe've got some gr
 eat workshops and events lined up\, as well as a craft space and kids spac
 e running all day! \n10.00 Arrive! ‘Why are we here? An introduction to
  the issues &amp\; groups present.’\n11.00 Workshop: Social cleansing an
 d colonialism: Custom House to Palestine\n11.30 Workshop: Learn to dabke d
 ance\n12.30 Picnic Lunch *please bring food to share!*\n13.30 Workshop: Ba
 nner making\n15.00 'Why are we here? An introduction to the issues &amp\; 
 groups present.\n15.30 Sheffield People’s Tribunal\n16.00 Workshop: BDS 
 101\n16.45 International Jewish Anti Zionist Network: Israel’s Worldwid
 e Role in arming repressive regimes worldwide\n17.00 Discussion: Why Cultu
 ral Boycott?\n18.00 FOOTBALL GAME!\n19.00-20.30 Live music and DJs featuri
 ng…Dave Randall (Faithless)\, Katiba 5\, Some F*cking People &amp\; Efa 
 Thomas! Check the Gig vs. Arms Fair facebook event and webpage for more in
 fo.\n&nbsp\;
LOCATION:ExCeL Centre\, Eastern Entrance\, Royal Albert Way\, London\, E16 
 1RH\, United Kingdom
GEO:51.5083740115525;0.03724990472414902
X-APPLE-STRUCTURED-LOCATION;VALUE=URI;X-ADDRESS=Royal Albert Way\, London\,
  E16 1RH\, United Kingdom;X-APPLE-RADIUS=100;X-TITLE=ExCeL Centre\, Easter
 n Entrance:geo:51.5083740115525,0.03724990472414902
END:VEVENT
BEGIN:VTIMEZONE
TZID:Europe/London
X-LIC-LOCATION:Europe/London
BEGIN:DAYLIGHT
DTSTART:20170326T020000
TZOFFSETFROM:+0000
TZOFFSETTO:+0100
TZNAME:BST
END:DAYLIGHT
END:VTIMEZONE
END:VCALENDAR