BEGIN:VCALENDAR
VERSION:2.0
PRODID:-//wp-events-plugin.com//7.2.3.1//EN
TZID:Europe/London
X-WR-TIMEZONE:Europe/London
BEGIN:VEVENT
UID:226@stopthearmsfair.org.uk
DTSTART;TZID=Europe/London:20190330T123000
DTEND;TZID=Europe/London:20190330T173000
DTSTAMP:20190307T171054Z
URL:https://stopthearmsfair.org.uk/events/stop-the-arms-fair-network-meeti
 ng/
SUMMARY:Stop the Arms Fair Network meeting
DESCRIPTION:Let’s get stuck into organising to Stop DSEI!\n\nWe will be d
 eciding on days of action and setting up working groups for things like we
 ll being and infrastructure.\n\nIf you want to get involved\, this is your
  next step.\n\n 	This meeting will follow the Stop the Arms Fair safer spa
 ces policy.\n 	We can offer support with travel\, accommodation and childc
 are costs if that will help you attend this meeting: please email info@sto
 pthearmsfair.org.uk for more information.\n 	Free lunch\, snacks and hot d
 rinks will be available. There will be vegetarian\, vegan and gluten free 
 options available. Please let us know if you have any other requirements\,
  including serious allergies.\n 	The venue is wheelchair accessible with a
  wheelchair accessible toilet.\n 	Parking for disabled drivers is availabl
 e by prior arrangement with the venue.\n 	If you have other questions abou
 t accessibility\, please email info@stopthearmsfair.org.uk for more inform
 ation.\n\nGetting there:\n\n 	The venue is a short walk from Shoreditch Hi
 gh Street Overground station.\n 	The nearest Tube stations are Liverpool S
 treet (Central\, Hammersmith &amp\; City\, District\,Metropolitan lines)\,
  Old Street (Northern line)\, Bethnal Green\n(Central line) and Aldgate Ea
 st (Hammersmith &amp\; City\, District lines).\n 	By Bus - To and from Sho
 reditch High Street\, Liverpool Street and Bethnal\nGreen Road you can cat
 ch buses 8\, 26\, 35\, 47\, 48\, 67\, 78\, 135\,\n149\, 242\, 243 &amp\; 3
 88.\n 	The nearest mainline station is Liverpool Street. It has frequent s
 uburban and national services\, as well as the Stansted Express.\n 	On-str
 eet parking: Limited pay-&amp\;-display parking available on Bethnal Green
  Road\, and streetmetered parking on Club Row and at Arnold Circus.\n 	Car
  parks: Euro Car Parks can be found on Shoreditch High Street\, and there 
 is an NCP on Great Eastern Street.\n
LOCATION:St Hilda's East Community Centre\, 8 Club Row\, London\, E2 7EY\, 
 United Kingdom
GEO:51.5243117;-0.07417390000000523
X-APPLE-STRUCTURED-LOCATION;VALUE=URI;X-ADDRESS=8 Club Row\, London\, E2 7E
 Y\, United Kingdom;X-APPLE-RADIUS=100;X-TITLE=St Hilda's East Community Ce
 ntre:geo:51.5243117,-0.07417390000000523
END:VEVENT
BEGIN:VTIMEZONE
TZID:Europe/London
X-LIC-LOCATION:Europe/London
BEGIN:STANDARD
DTSTART:20181028T010000
TZOFFSETFROM:+0100
TZOFFSETTO:+0000
TZNAME:GMT
END:STANDARD
END:VTIMEZONE
END:VCALENDAR