BEGIN:VCALENDAR
VERSION:2.0
PRODID:-//wp-events-plugin.com//7.2.3.1//EN
TZID:Europe/London
X-WR-TIMEZONE:Europe/London
BEGIN:VEVENT
UID:318@stopthearmsfair.org.uk
DTSTART;TZID=Europe/London:20230906T180000
DTEND;TZID=Europe/London:20230906T190000
DTSTAMP:20230903T131530Z
URL:https://stopthearmsfair.org.uk/events/women-in-black-london-vigil-agai
 nst-dsei/
SUMMARY:Women in Black London vigil against DSEI
DESCRIPTION:We vigil weekly at the same time. These two vigils are to coinc
 ide with the DSEI event . We have held similar vigils challenging the Arms
  Fair for the past six months. Women in Black against war and militarism\n
 \n
LOCATION:Edith Cavell Statue\, Trafalgar Square\, Edith Cavell Statue\, St 
 Martin's Place\, London\, WC2\, United Kingdom
GEO:51.5090197;-0.1272162999999864
X-APPLE-STRUCTURED-LOCATION;VALUE=URI;X-ADDRESS=Edith Cavell Statue\, St Ma
 rtin's Place\, London\, WC2\, United Kingdom;X-APPLE-RADIUS=100;X-TITLE=Ed
 ith Cavell Statue\, Trafalgar Square:geo:51.5090197,-0.1272162999999864
END:VEVENT
BEGIN:VTIMEZONE
TZID:Europe/London
X-LIC-LOCATION:Europe/London
BEGIN:DAYLIGHT
DTSTART:20230326T020000
TZOFFSETFROM:+0000
TZOFFSETTO:+0100
TZNAME:BST
END:DAYLIGHT
END:VTIMEZONE
END:VCALENDAR